Package: pathlinkR Version: 1.0.1 Command: rm -rf pathlinkR.buildbin-libdir && mkdir pathlinkR.buildbin-libdir && /Users/biocbuild/BBS/utils/build-universal.sh pathlinkR_1.0.1.tar.gz /Library/Frameworks/R.framework/Resources/bin/R pathlinkR.buildbin-libdir StartedAt: 2024-10-18 19:54:05 -0400 (Fri, 18 Oct 2024) EndedAt: 2024-10-18 19:54:28 -0400 (Fri, 18 Oct 2024) EllapsedTime: 23.8 seconds RetCode: 0 Status: OK PackageFile: pathlinkR_1.0.1.tgz PackageFileSize: 4.825 MiB