Package: pathlinkR Version: 1.0.1 Command: /Library/Frameworks/R.framework/Resources/bin/R CMD build --keep-empty-dirs --no-resave-data pathlinkR StartedAt: 2024-10-17 06:11:42 -0400 (Thu, 17 Oct 2024) EndedAt: 2024-10-17 06:15:50 -0400 (Thu, 17 Oct 2024) EllapsedTime: 248.4 seconds RetCode: 0 Status: OK PackageFile: pathlinkR_1.0.1.tar.gz PackageFileSize: 4.709 MiB