Package: pathlinkR Version: 1.0.0 Command: rm -rf pathlinkR.buildbin-libdir && mkdir pathlinkR.buildbin-libdir && /Users/biocbuild/BBS/utils/build-universal.sh pathlinkR_1.0.0.tar.gz /Library/Frameworks/R.framework/Resources/bin/R pathlinkR.buildbin-libdir StartedAt: 2024-06-11 12:28:20 -0400 (Tue, 11 Jun 2024) EndedAt: 2024-06-11 12:28:53 -0400 (Tue, 11 Jun 2024) EllapsedTime: 33.2 seconds RetCode: 0 Status: OK PackageFile: pathlinkR_1.0.0.tgz PackageFileSize: 4.658 MiB