Package: pathlinkR Version: 1.0.1 Command: /Library/Frameworks/R.framework/Resources/bin/R CMD build --keep-empty-dirs --no-resave-data pathlinkR StartedAt: 2024-10-16 21:56:38 -0400 (Wed, 16 Oct 2024) EndedAt: 2024-10-16 22:06:38 -0400 (Wed, 16 Oct 2024) EllapsedTime: 600.5 seconds RetCode: 0 Status: OK PackageFile: pathlinkR_1.0.1.tar.gz PackageFileSize: 4.696 MiB