Package: pathlinkR Version: 1.0.1 Command: rm -rf pathlinkR.buildbin-libdir && mkdir pathlinkR.buildbin-libdir && E:\biocbuild\bbs-3.19-bioc\R\bin\R.exe CMD INSTALL --build --library=pathlinkR.buildbin-libdir pathlinkR_1.0.1.tar.gz StartedAt: 2024-10-17 08:19:37 -0400 (Thu, 17 Oct 2024) EndedAt: 2024-10-17 08:20:05 -0400 (Thu, 17 Oct 2024) EllapsedTime: 27.1 seconds RetCode: 0 Status: OK PackageFile: pathlinkR_1.0.1.zip PackageFileSize: 3.206 MiB