Package: pathwayPCA Version: 1.20.0 Command: /Library/Frameworks/R.framework/Resources/bin/R CMD build --keep-empty-dirs --no-resave-data pathwayPCA StartedAt: 2024-10-17 06:13:36 -0400 (Thu, 17 Oct 2024) EndedAt: 2024-10-17 06:16:48 -0400 (Thu, 17 Oct 2024) EllapsedTime: 191.9 seconds RetCode: 0 Status: OK PackageFile: pathwayPCA_1.20.0.tar.gz PackageFileSize: 3.478 MiB