Package: pathwayPCA Version: 1.20.0 Command: /Library/Frameworks/R.framework/Resources/bin/R CMD check --install=check:pathwayPCA.install-out.txt --library=/Library/Frameworks/R.framework/Resources/library --no-vignettes --timings pathwayPCA_1.20.0.tar.gz StartedAt: 2024-10-18 07:05:34 -0400 (Fri, 18 Oct 2024) EndedAt: 2024-10-18 07:08:35 -0400 (Fri, 18 Oct 2024) EllapsedTime: 180.7 seconds RetCode: 0 Status: OK CheckDir: pathwayPCA.Rcheck Warnings: 0