Package: pathwayPCA Version: 1.20.0 Command: /home/biocbuild/R/R-beta-2024-04-15_r86425/bin/R CMD check --install=check:pathwayPCA.install-out.txt --library=/home/biocbuild/R/R-beta-2024-04-15_r86425/site-library --no-vignettes --timings pathwayPCA_1.20.0.tar.gz StartedAt: 2024-05-09 10:24:55 -0000 (Thu, 09 May 2024) EndedAt: 2024-05-09 10:27:43 -0000 (Thu, 09 May 2024) EllapsedTime: 168.3 seconds RetCode: 0 Status: OK CheckDir: pathwayPCA.Rcheck Warnings: 0