Package: pathwayPCA Version: 1.20.0 Command: /Library/Frameworks/R.framework/Resources/bin/R CMD INSTALL pathwayPCA StartedAt: 2024-06-09 15:36:58 -0400 (Sun, 09 Jun 2024) EndedAt: 2024-06-09 15:37:10 -0400 (Sun, 09 Jun 2024) EllapsedTime: 12.3 seconds RetCode: 0 Status: OK