Package: pathwayPCA Version: 1.20.0 Command: rm -rf pathwayPCA.buildbin-libdir && mkdir pathwayPCA.buildbin-libdir && /Users/biocbuild/BBS/utils/build-universal.sh pathwayPCA_1.20.0.tar.gz /Library/Frameworks/R.framework/Resources/bin/R pathwayPCA.buildbin-libdir StartedAt: 2024-10-17 16:49:03 -0400 (Thu, 17 Oct 2024) EndedAt: 2024-10-17 16:49:28 -0400 (Thu, 17 Oct 2024) EllapsedTime: 25.2 seconds RetCode: 0 Status: OK PackageFile: pathwayPCA_1.20.0.tgz PackageFileSize: 3.424 MiB