Package: pathwayPCA Version: 1.20.0 Command: /Library/Frameworks/R.framework/Resources/bin/R CMD INSTALL pathwayPCA StartedAt: 2024-10-16 16:32:33 -0400 (Wed, 16 Oct 2024) EndedAt: 2024-10-16 16:32:55 -0400 (Wed, 16 Oct 2024) EllapsedTime: 21.5 seconds RetCode: 0 Status: OK