Package: pathwayPCA Version: 1.20.0 Command: /home/biocbuild/bbs-3.19-bioc/R/bin/R CMD build --keep-empty-dirs --no-resave-data pathwayPCA StartedAt: 2024-10-16 20:04:45 -0400 (Wed, 16 Oct 2024) EndedAt: 2024-10-16 20:07:52 -0400 (Wed, 16 Oct 2024) EllapsedTime: 186.4 seconds RetCode: 0 Status: OK PackageFile: pathwayPCA_1.20.0.tar.gz PackageFileSize: 3.23 MiB