Package: pathwayPCA Version: 1.20.0 Command: chmod a+r pathwayPCA -R && F:\biocbuild\bbs-3.19-bioc\R\bin\R.exe CMD build --keep-empty-dirs --no-resave-data pathwayPCA StartedAt: 2024-06-26 20:53:37 -0400 (Wed, 26 Jun 2024) EndedAt: 2024-06-26 20:56:41 -0400 (Wed, 26 Jun 2024) EllapsedTime: 183.8 seconds RetCode: 0 Status: OK PackageFile: pathwayPCA_1.20.0.tar.gz PackageFileSize: 2.851 MiB