Package: pathwayPCA Version: 1.20.0 Command: chmod a+r pathwayPCA -R && E:\biocbuild\bbs-3.19-bioc\R\bin\R.exe CMD build --keep-empty-dirs --no-resave-data pathwayPCA StartedAt: 2024-10-16 20:58:46 -0400 (Wed, 16 Oct 2024) EndedAt: 2024-10-16 21:03:16 -0400 (Wed, 16 Oct 2024) EllapsedTime: 270.3 seconds RetCode: 0 Status: OK PackageFile: pathwayPCA_1.20.0.tar.gz PackageFileSize: 2.851 MiB