Package: paxtoolsr Version: 1.38.0 Command: rm -rf paxtoolsr.buildbin-libdir && mkdir paxtoolsr.buildbin-libdir && /Users/biocbuild/BBS/utils/build-universal.sh paxtoolsr_1.38.0.tar.gz /Library/Frameworks/R.framework/Resources/bin/R paxtoolsr.buildbin-libdir StartedAt: 2024-06-11 12:28:52 -0400 (Tue, 11 Jun 2024) EndedAt: 2024-06-11 12:29:12 -0400 (Tue, 11 Jun 2024) EllapsedTime: 20.0 seconds RetCode: 0 Status: OK PackageFile: paxtoolsr_1.38.0.tgz PackageFileSize: 25.64 MiB