Package: paxtoolsr Version: 1.38.0 Command: rm -rf paxtoolsr.buildbin-libdir && mkdir paxtoolsr.buildbin-libdir && /Users/biocbuild/BBS/utils/build-universal.sh paxtoolsr_1.38.0.tar.gz /Library/Frameworks/R.framework/Resources/bin/R paxtoolsr.buildbin-libdir StartedAt: 2024-06-27 15:16:24 -0400 (Thu, 27 Jun 2024) EndedAt: 2024-06-27 15:16:50 -0400 (Thu, 27 Jun 2024) EllapsedTime: 26.0 seconds RetCode: 0 Status: OK PackageFile: paxtoolsr_1.38.0.tgz PackageFileSize: 25.65 MiB