Package: paxtoolsr Version: 1.38.0 Command: /Library/Frameworks/R.framework/Resources/bin/R CMD build --keep-empty-dirs --no-resave-data paxtoolsr StartedAt: 2024-10-16 21:58:15 -0400 (Wed, 16 Oct 2024) EndedAt: 2024-10-16 21:58:58 -0400 (Wed, 16 Oct 2024) EllapsedTime: 43.7 seconds RetCode: 1 Status: ERROR PackageFile: None PackageFileSize: NA