Package: paxtoolsr Version: 1.38.0 Command: /Library/Frameworks/R.framework/Resources/bin/R CMD INSTALL paxtoolsr StartedAt: 2024-10-16 15:13:06 -0400 (Wed, 16 Oct 2024) EndedAt: 2024-10-16 15:13:32 -0400 (Wed, 16 Oct 2024) EllapsedTime: 25.4 seconds RetCode: 0 Status: OK