Package: paxtoolsr Version: 1.38.0 Command: F:\biocbuild\bbs-3.19-bioc\R\bin\R.exe CMD check --no-multiarch --install=check:paxtoolsr.install-out.txt --library=F:\biocbuild\bbs-3.19-bioc\R\library --no-vignettes --timings paxtoolsr_1.38.0.tar.gz StartedAt: 2024-06-27 04:36:51 -0400 (Thu, 27 Jun 2024) EndedAt: 2024-06-27 04:39:28 -0400 (Thu, 27 Jun 2024) EllapsedTime: 157.4 seconds RetCode: 1 Status: ERROR CheckDir: paxtoolsr.Rcheck Warnings: NA