Package: pcaExplorer Version: 2.30.0 Command: /Library/Frameworks/R.framework/Resources/bin/R CMD check --install=check:pcaExplorer.install-out.txt --library=/Library/Frameworks/R.framework/Resources/library --no-vignettes --timings pcaExplorer_2.30.0.tar.gz StartedAt: 2024-06-11 00:58:37 -0400 (Tue, 11 Jun 2024) EndedAt: 2024-06-11 01:09:07 -0400 (Tue, 11 Jun 2024) EllapsedTime: 630.0 seconds RetCode: 0 Status: OK CheckDir: pcaExplorer.Rcheck Warnings: 0