Package: pcaExplorer Version: 2.30.0 Command: /home/biocbuild/R/R-beta-2024-04-15_r86425/bin/R CMD INSTALL pcaExplorer StartedAt: 2024-05-08 20:57:15 -0000 (Wed, 08 May 2024) EndedAt: 2024-05-08 20:58:12 -0000 (Wed, 08 May 2024) EllapsedTime: 57.2 seconds RetCode: 0 Status: OK