Package: pcaExplorer Version: 2.30.0 Command: rm -rf pcaExplorer.buildbin-libdir && mkdir pcaExplorer.buildbin-libdir && /Users/biocbuild/BBS/utils/build-universal.sh pcaExplorer_2.30.0.tar.gz /Library/Frameworks/R.framework/Resources/bin/R pcaExplorer.buildbin-libdir StartedAt: 2024-10-17 16:49:04 -0400 (Thu, 17 Oct 2024) EndedAt: 2024-10-17 16:50:54 -0400 (Thu, 17 Oct 2024) EllapsedTime: 110.0 seconds RetCode: 0 Status: OK PackageFile: pcaExplorer_2.30.0.tgz PackageFileSize: 8.014 MiB