Package: pcaMethods Version: 1.96.0 Command: /Library/Frameworks/R.framework/Resources/bin/R CMD check --install=check:pcaMethods.install-out.txt --library=/Library/Frameworks/R.framework/Resources/library --no-vignettes --timings pcaMethods_1.96.0.tar.gz StartedAt: 2024-10-18 07:08:14 -0400 (Fri, 18 Oct 2024) EndedAt: 2024-10-18 07:10:38 -0400 (Fri, 18 Oct 2024) EllapsedTime: 144.3 seconds RetCode: 0 Status: OK CheckDir: pcaMethods.Rcheck Warnings: 0