Package: pcaMethods Version: 1.96.0 Command: /home/biocbuild/R/R-beta-2024-04-15_r86425/bin/R CMD build --keep-empty-dirs --no-resave-data pcaMethods StartedAt: 2024-05-09 02:25:17 -0000 (Thu, 09 May 2024) EndedAt: 2024-05-09 02:28:18 -0000 (Thu, 09 May 2024) EllapsedTime: 181.2 seconds RetCode: 0 Status: OK PackageFile: pcaMethods_1.96.0.tar.gz PackageFileSize: 988.8 KiB