Package: pcaMethods Version: 1.96.0 Command: /home/biocbuild/bbs-3.19-bioc/R/bin/R CMD build --keep-empty-dirs --no-resave-data pcaMethods StartedAt: 2024-10-16 20:04:57 -0400 (Wed, 16 Oct 2024) EndedAt: 2024-10-16 20:06:45 -0400 (Wed, 16 Oct 2024) EllapsedTime: 107.2 seconds RetCode: 0 Status: OK PackageFile: pcaMethods_1.96.0.tar.gz PackageFileSize: 598.5 KiB