Package: pcaMethods Version: 1.96.0 Command: rm -rf pcaMethods.buildbin-libdir && mkdir pcaMethods.buildbin-libdir && F:\biocbuild\bbs-3.19-bioc\R\bin\R.exe CMD INSTALL --build --library=pcaMethods.buildbin-libdir pcaMethods_1.96.0.tar.gz StartedAt: 2024-06-27 08:39:28 -0400 (Thu, 27 Jun 2024) EndedAt: 2024-06-27 08:40:09 -0400 (Thu, 27 Jun 2024) EllapsedTime: 41.3 seconds RetCode: 0 Status: OK PackageFile: pcaMethods_1.96.0.zip PackageFileSize: 1.338 MiB