Package: pcaMethods Version: 1.96.0 Command: chmod a+r pcaMethods -R && E:\biocbuild\bbs-3.19-bioc\R\bin\R.exe CMD build --keep-empty-dirs --no-resave-data pcaMethods StartedAt: 2024-10-16 20:59:22 -0400 (Wed, 16 Oct 2024) EndedAt: 2024-10-16 21:01:38 -0400 (Wed, 16 Oct 2024) EllapsedTime: 135.4 seconds RetCode: 0 Status: OK PackageFile: pcaMethods_1.96.0.tar.gz PackageFileSize: 605.3 KiB