Package: pcxn Version: 2.26.0 Command: /Library/Frameworks/R.framework/Resources/bin/R CMD INSTALL pcxn StartedAt: 2024-10-16 16:01:40 -0400 (Wed, 16 Oct 2024) EndedAt: 2024-10-16 16:01:44 -0400 (Wed, 16 Oct 2024) EllapsedTime: 4.2 seconds RetCode: 0 Status: OK