Package: pcxn Version: 2.26.0 Command: /home/biocbuild/R/R-beta-2024-04-15_r86425/bin/R CMD build --keep-empty-dirs --no-resave-data pcxn StartedAt: 2024-05-09 02:26:32 -0000 (Thu, 09 May 2024) EndedAt: 2024-05-09 02:26:49 -0000 (Thu, 09 May 2024) EllapsedTime: 17.0 seconds RetCode: 0 Status: OK PackageFile: pcxn_2.26.0.tar.gz PackageFileSize: 147.9 KiB