Package: pcxn Version: 2.26.0 Command: rm -rf pcxn.buildbin-libdir && mkdir pcxn.buildbin-libdir && /Users/biocbuild/BBS/utils/build-universal.sh pcxn_2.26.0.tar.gz /Library/Frameworks/R.framework/Resources/bin/R pcxn.buildbin-libdir StartedAt: 2024-06-10 00:31:46 -0400 (Mon, 10 Jun 2024) EndedAt: 2024-06-10 00:31:51 -0400 (Mon, 10 Jun 2024) EllapsedTime: 5.7 seconds RetCode: 0 Status: OK PackageFile: pcxn_2.26.0.tgz PackageFileSize: 187.6 KiB