Package: pcxn Version: 2.26.0 Command: /Library/Frameworks/R.framework/Resources/bin/R CMD check --install=check:pcxn.install-out.txt --library=/Library/Frameworks/R.framework/Resources/library --no-vignettes --timings pcxn_2.26.0.tar.gz StartedAt: 2024-06-09 22:09:05 -0400 (Sun, 09 Jun 2024) EndedAt: 2024-06-09 22:09:59 -0400 (Sun, 09 Jun 2024) EllapsedTime: 53.1 seconds RetCode: 0 Status: OK CheckDir: pcxn.Rcheck Warnings: 0