Package: pcxn Version: 2.26.0 Command: rm -rf pcxn.buildbin-libdir && mkdir pcxn.buildbin-libdir && /Users/biocbuild/BBS/utils/build-universal.sh pcxn_2.26.0.tar.gz /Library/Frameworks/R.framework/Resources/bin/R pcxn.buildbin-libdir StartedAt: 2024-10-17 16:49:08 -0400 (Thu, 17 Oct 2024) EndedAt: 2024-10-17 16:49:16 -0400 (Thu, 17 Oct 2024) EllapsedTime: 8.4 seconds RetCode: 0 Status: OK PackageFile: pcxn_2.26.0.tgz PackageFileSize: 188.1 KiB