Package: pcxn Version: 2.26.0 Command: /Library/Frameworks/R.framework/Resources/bin/R CMD build --keep-empty-dirs --no-resave-data pcxn StartedAt: 2024-10-16 21:58:22 -0400 (Wed, 16 Oct 2024) EndedAt: 2024-10-16 21:59:09 -0400 (Wed, 16 Oct 2024) EllapsedTime: 46.7 seconds RetCode: 0 Status: OK PackageFile: pcxn_2.26.0.tar.gz PackageFileSize: 154.4 KiB