Package: pcxn Version: 2.26.0 Command: chmod a+r pcxn -R && F:\biocbuild\bbs-3.19-bioc\R\bin\R.exe CMD build --keep-empty-dirs --no-resave-data pcxn StartedAt: 2024-06-26 20:54:32 -0400 (Wed, 26 Jun 2024) EndedAt: 2024-06-26 20:55:12 -0400 (Wed, 26 Jun 2024) EllapsedTime: 40.0 seconds RetCode: 0 Status: OK PackageFile: pcxn_2.26.0.tar.gz PackageFileSize: 69.79 KiB