Package: pcxn Version: 2.26.0 Command: rm -rf pcxn.buildbin-libdir && mkdir pcxn.buildbin-libdir && E:\biocbuild\bbs-3.19-bioc\R\bin\R.exe CMD INSTALL --build --library=pcxn.buildbin-libdir pcxn_2.26.0.tar.gz StartedAt: 2024-10-17 08:19:56 -0400 (Thu, 17 Oct 2024) EndedAt: 2024-10-17 08:20:09 -0400 (Thu, 17 Oct 2024) EllapsedTime: 12.7 seconds RetCode: 0 Status: OK PackageFile: pcxn_2.26.0.zip PackageFileSize: 107.9 KiB