Package: pcxn Version: 2.26.0 Command: chmod a+r pcxn -R && E:\biocbuild\bbs-3.19-bioc\R\bin\R.exe CMD build --keep-empty-dirs --no-resave-data pcxn StartedAt: 2024-10-16 20:59:31 -0400 (Wed, 16 Oct 2024) EndedAt: 2024-10-16 20:59:55 -0400 (Wed, 16 Oct 2024) EllapsedTime: 23.9 seconds RetCode: 0 Status: OK PackageFile: pcxn_2.26.0.tar.gz PackageFileSize: 70.38 KiB