Package: pepStat Version: 1.38.0 Command: /Library/Frameworks/R.framework/Resources/bin/R CMD build --keep-empty-dirs --no-resave-data pepStat StartedAt: 2024-10-17 06:19:06 -0400 (Thu, 17 Oct 2024) EndedAt: 2024-10-17 06:20:18 -0400 (Thu, 17 Oct 2024) EllapsedTime: 72.3 seconds RetCode: 0 Status: OK PackageFile: pepStat_1.38.0.tar.gz PackageFileSize: 319.7 KiB