Package: pepStat Version: 1.38.0 Command: /Library/Frameworks/R.framework/Resources/bin/R CMD INSTALL pepStat StartedAt: 2024-10-16 16:09:00 -0400 (Wed, 16 Oct 2024) EndedAt: 2024-10-16 16:09:21 -0400 (Wed, 16 Oct 2024) EllapsedTime: 20.8 seconds RetCode: 0 Status: OK