Package: pepStat Version: 1.38.0 Command: /Library/Frameworks/R.framework/Resources/bin/R CMD build --keep-empty-dirs --no-resave-data pepStat StartedAt: 2024-10-16 22:00:59 -0400 (Wed, 16 Oct 2024) EndedAt: 2024-10-16 22:03:54 -0400 (Wed, 16 Oct 2024) EllapsedTime: 174.9 seconds RetCode: 0 Status: OK PackageFile: pepStat_1.38.0.tar.gz PackageFileSize: 319.8 KiB