Package: pepStat Version: 1.38.0 Command: /Library/Frameworks/R.framework/Resources/bin/R CMD check --install=check:pepStat.install-out.txt --library=/Library/Frameworks/R.framework/Resources/library --no-vignettes --timings pepStat_1.38.0.tar.gz StartedAt: 2024-10-17 10:46:07 -0400 (Thu, 17 Oct 2024) EndedAt: 2024-10-17 10:51:35 -0400 (Thu, 17 Oct 2024) EllapsedTime: 327.7 seconds RetCode: 0 Status: OK CheckDir: pepStat.Rcheck Warnings: 0