Package: pepXMLTab Version: 1.38.0 Command: /Library/Frameworks/R.framework/Resources/bin/R CMD build --keep-empty-dirs --no-resave-data pepXMLTab StartedAt: 2024-10-17 06:19:55 -0400 (Thu, 17 Oct 2024) EndedAt: 2024-10-17 06:20:10 -0400 (Thu, 17 Oct 2024) EllapsedTime: 14.7 seconds RetCode: 0 Status: OK PackageFile: pepXMLTab_1.38.0.tar.gz PackageFileSize: 187.6 KiB