Package: pepXMLTab Version: 1.38.0 Command: /Library/Frameworks/R.framework/Resources/bin/R CMD check --install=check:pepXMLTab.install-out.txt --library=/Library/Frameworks/R.framework/Resources/library --no-vignettes --timings pepXMLTab_1.38.0.tar.gz StartedAt: 2024-10-18 07:15:48 -0400 (Fri, 18 Oct 2024) EndedAt: 2024-10-18 07:16:21 -0400 (Fri, 18 Oct 2024) EllapsedTime: 32.6 seconds RetCode: 0 Status: OK CheckDir: pepXMLTab.Rcheck Warnings: 0