Package: pepXMLTab Version: 1.38.0 Command: /Library/Frameworks/R.framework/Resources/bin/R CMD INSTALL pepXMLTab StartedAt: 2024-10-16 15:45:03 -0400 (Wed, 16 Oct 2024) EndedAt: 2024-10-16 15:45:06 -0400 (Wed, 16 Oct 2024) EllapsedTime: 3.5 seconds RetCode: 0 Status: OK