Package: pepXMLTab Version: 1.38.0 Command: rm -rf pepXMLTab.buildbin-libdir && mkdir pepXMLTab.buildbin-libdir && /Users/biocbuild/BBS/utils/build-universal.sh pepXMLTab_1.38.0.tar.gz /Library/Frameworks/R.framework/Resources/bin/R pepXMLTab.buildbin-libdir StartedAt: 2024-06-11 12:30:14 -0400 (Tue, 11 Jun 2024) EndedAt: 2024-06-11 12:30:21 -0400 (Tue, 11 Jun 2024) EllapsedTime: 6.5 seconds RetCode: 0 Status: OK PackageFile: pepXMLTab_1.38.0.tgz PackageFileSize: 206.1 KiB