Package: pepXMLTab Version: 1.38.0 Command: /home/biocbuild/R/R-beta-2024-04-15_r86425/bin/R CMD build --keep-empty-dirs --no-resave-data pepXMLTab StartedAt: 2024-05-09 02:28:18 -0000 (Thu, 09 May 2024) EndedAt: 2024-05-09 02:28:25 -0000 (Thu, 09 May 2024) EllapsedTime: 7.0 seconds RetCode: 0 Status: OK PackageFile: pepXMLTab_1.38.0.tar.gz PackageFileSize: 185.3 KiB