Package: pepXMLTab Version: 1.38.0 Command: rm -rf pepXMLTab.buildbin-libdir && mkdir pepXMLTab.buildbin-libdir && /Users/biocbuild/BBS/utils/build-universal.sh pepXMLTab_1.38.0.tar.gz /Library/Frameworks/R.framework/Resources/bin/R pepXMLTab.buildbin-libdir StartedAt: 2024-06-10 00:31:57 -0400 (Mon, 10 Jun 2024) EndedAt: 2024-06-10 00:32:02 -0400 (Mon, 10 Jun 2024) EllapsedTime: 4.6 seconds RetCode: 0 Status: OK PackageFile: pepXMLTab_1.38.0.tgz PackageFileSize: 206.3 KiB