Package: pepXMLTab Version: 1.38.0 Command: /Library/Frameworks/R.framework/Resources/bin/R CMD build --keep-empty-dirs --no-resave-data pepXMLTab StartedAt: 2024-10-16 22:01:32 -0400 (Wed, 16 Oct 2024) EndedAt: 2024-10-16 22:02:00 -0400 (Wed, 16 Oct 2024) EllapsedTime: 28.4 seconds RetCode: 0 Status: OK PackageFile: pepXMLTab_1.38.0.tar.gz PackageFileSize: 187.6 KiB