Package: pepXMLTab Version: 1.38.0 Command: rm -rf pepXMLTab.buildbin-libdir && mkdir pepXMLTab.buildbin-libdir && E:\biocbuild\bbs-3.19-bioc\R\bin\R.exe CMD INSTALL --build --library=pepXMLTab.buildbin-libdir pepXMLTab_1.38.0.tar.gz StartedAt: 2024-10-17 08:20:19 -0400 (Thu, 17 Oct 2024) EndedAt: 2024-10-17 08:20:29 -0400 (Thu, 17 Oct 2024) EllapsedTime: 10.3 seconds RetCode: 0 Status: OK PackageFile: pepXMLTab_1.38.0.zip PackageFileSize: 203.9 KiB