Package: pfamAnalyzeR Version: 1.4.0 Command: /Library/Frameworks/R.framework/Resources/bin/R CMD check --install=check:pfamAnalyzeR.install-out.txt --library=/Library/Frameworks/R.framework/Resources/library --no-vignettes --timings pfamAnalyzeR_1.4.0.tar.gz StartedAt: 2024-10-18 07:16:21 -0400 (Fri, 18 Oct 2024) EndedAt: 2024-10-18 07:17:01 -0400 (Fri, 18 Oct 2024) EllapsedTime: 39.6 seconds RetCode: 0 Status: OK CheckDir: pfamAnalyzeR.Rcheck Warnings: 0