Package: pfamAnalyzeR Version: 1.4.0 Command: /Library/Frameworks/R.framework/Resources/bin/R CMD INSTALL pfamAnalyzeR StartedAt: 2024-10-16 15:47:35 -0400 (Wed, 16 Oct 2024) EndedAt: 2024-10-16 15:47:40 -0400 (Wed, 16 Oct 2024) EllapsedTime: 4.2 seconds RetCode: 0 Status: OK